BEGIN:VCALENDAR
VERSION:2.0
PRODID:-//Wimbledon WI - ECPv5.12.4//NONSGML v1.0//EN
CALSCALE:GREGORIAN
METHOD:PUBLISH
X-WR-CALNAME:Wimbledon WI
X-ORIGINAL-URL:https://www.wimbledonwi.org.uk
X-WR-CALDESC:Events for Wimbledon WI
BEGIN:VTIMEZONE
TZID:Europe/London
BEGIN:DAYLIGHT
TZOFFSETFROM:+0000
TZOFFSETTO:+0100
TZNAME:BST
DTSTART:20200329T010000
END:DAYLIGHT
BEGIN:STANDARD
TZOFFSETFROM:+0100
TZOFFSETTO:+0000
TZNAME:GMT
DTSTART:20201025T010000
END:STANDARD
END:VTIMEZONE
BEGIN:VEVENT
DTSTART;TZID=Europe/London:20200217T193000
DTEND;TZID=Europe/London:20200217T210000
DTSTAMP:20260426T023712
CREATED:20200215T162513Z
LAST-MODIFIED:20200215T162513Z
UID:1630-1581967800-1581973200@www.wimbledonwi.org.uk
SUMMARY:Meeting 17th February
DESCRIPTION:“Salacious Gossip at Hampton Court” by Sarah Slater
URL:https://www.wimbledonwi.org.uk/event/meeting-17th-february/
LOCATION:THE 6th FORM CENTRE\, URSULINE HIGH SCHOOL THE DOWNS\, WIMBLEDON\, London\, SW20 8HA\, United Kingdom
END:VEVENT
END:VCALENDAR