BEGIN:VCALENDAR
VERSION:2.0
PRODID:-//Wimbledon WI - ECPv5.12.4//NONSGML v1.0//EN
CALSCALE:GREGORIAN
METHOD:PUBLISH
X-WR-CALNAME:Wimbledon WI
X-ORIGINAL-URL:https://www.wimbledonwi.org.uk
X-WR-CALDESC:Events for Wimbledon WI
BEGIN:VTIMEZONE
TZID:Europe/London
BEGIN:DAYLIGHT
TZOFFSETFROM:+0000
TZOFFSETTO:+0100
TZNAME:BST
DTSTART:20190331T010000
END:DAYLIGHT
BEGIN:STANDARD
TZOFFSETFROM:+0100
TZOFFSETTO:+0000
TZNAME:GMT
DTSTART:20191027T010000
END:STANDARD
END:VTIMEZONE
BEGIN:VEVENT
DTSTART;TZID=Europe/London:20191118T193000
DTEND;TZID=Europe/London:20191118T210000
DTSTAMP:20260426T041805
CREATED:20190322T154912Z
LAST-MODIFIED:20190322T154912Z
UID:1559-1574105400-1574110800@www.wimbledonwi.org.uk
SUMMARY:November Meeting
DESCRIPTION:AGM. Christmas Gifts Collection. Charity Rep
URL:https://www.wimbledonwi.org.uk/event/november-meeting-3/
LOCATION:THE 6th FORM CENTRE\, URSULINE HIGH SCHOOL THE DOWNS\, WIMBLEDON\, London\, SW20 8HA\, United Kingdom
CATEGORIES:Dates for Your Diary,Monthly Meetings
END:VEVENT
END:VCALENDAR