BEGIN:VCALENDAR
VERSION:2.0
PRODID:-//Wimbledon WI - ECPv5.12.4//NONSGML v1.0//EN
CALSCALE:GREGORIAN
METHOD:PUBLISH
X-WR-CALNAME:Wimbledon WI
X-ORIGINAL-URL:https://www.wimbledonwi.org.uk
X-WR-CALDESC:Events for Wimbledon WI
BEGIN:VTIMEZONE
TZID:Europe/London
BEGIN:DAYLIGHT
TZOFFSETFROM:+0000
TZOFFSETTO:+0100
TZNAME:BST
DTSTART:20190331T010000
END:DAYLIGHT
BEGIN:STANDARD
TZOFFSETFROM:+0100
TZOFFSETTO:+0000
TZNAME:GMT
DTSTART:20191027T010000
END:STANDARD
END:VTIMEZONE
BEGIN:VEVENT
DTSTART;TZID=Europe/London:20191216T193000
DTEND;TZID=Europe/London:20191216T210000
DTSTAMP:20260426T012707
CREATED:20190322T155013Z
LAST-MODIFIED:20190322T155013Z
UID:1561-1576524600-1576530000@www.wimbledonwi.org.uk
SUMMARY:December Meeting
DESCRIPTION:Christmas Social. Denman Bursary Draw
URL:https://www.wimbledonwi.org.uk/event/december-meeting-3/
LOCATION:THE 6th FORM CENTRE\, URSULINE HIGH SCHOOL THE DOWNS\, WIMBLEDON\, London\, SW20 8HA\, United Kingdom
CATEGORIES:Dates for Your Diary,Monthly Meetings
END:VEVENT
END:VCALENDAR